BEGIN:VCALENDAR
VERSION:2.0
PRODID:-//Delta Dog - ECPv6.15.20//NONSGML v1.0//EN
CALSCALE:GREGORIAN
METHOD:PUBLISH
X-ORIGINAL-URL:https://operationdeltadog.org
X-WR-CALDESC:Events for Delta Dog
REFRESH-INTERVAL;VALUE=DURATION:PT1H
X-Robots-Tag:noindex
X-PUBLISHED-TTL:PT1H
BEGIN:VTIMEZONE
TZID:UTC
BEGIN:STANDARD
TZOFFSETFROM:+0000
TZOFFSETTO:+0000
TZNAME:UTC
DTSTART:20250101T000000
END:STANDARD
END:VTIMEZONE
BEGIN:VEVENT
DTSTART;TZID=UTC:20260425T090000
DTEND;TZID=UTC:20260425T160000
DTSTAMP:20260422T084234
CREATED:20260223T011032Z
LAST-MODIFIED:20260223T011036Z
UID:10000084-1777107600-1777132800@operationdeltadog.org
SUMMARY:OpDD VETERANS: High Flight Experience
DESCRIPTION:Veterans\, you are invited to take 20-minute flights in a vintage 1941 Stearman biplane and tour a 1942 Willys Jeep at Nashua Airport at Nashua airport. Sign up ahead of time by using the link below to reserve your spot: https://docs.google.com/forms/d/e/1FAIpQLSdMcTcXr_4BzrPPbh5lbychB65izgfq_NdAD-k4hop9BTOVcQ/viewform?usp=header
URL:https://operationdeltadog.org/event/opdd-veterans-high-flight-experience/
LOCATION:115 Perimeter Road\, Nashua\, NH 03063\, 115 Perimeter Road\, Nashua\, New Hampshire\, 03063\, United States
CATEGORIES:Veterans
END:VEVENT
END:VCALENDAR