BEGIN:VCALENDAR
VERSION:2.0
PRODID:-//Delta Dog - ECPv6.15.20//NONSGML v1.0//EN
CALSCALE:GREGORIAN
METHOD:PUBLISH
X-WR-CALNAME:Delta Dog
X-ORIGINAL-URL:https://operationdeltadog.org
X-WR-CALDESC:Events for Delta Dog
REFRESH-INTERVAL;VALUE=DURATION:PT1H
X-Robots-Tag:noindex
X-PUBLISHED-TTL:PT1H
BEGIN:VTIMEZONE
TZID:UTC
BEGIN:STANDARD
TZOFFSETFROM:+0000
TZOFFSETTO:+0000
TZNAME:UTC
DTSTART:20250101T000000
END:STANDARD
END:VTIMEZONE
BEGIN:VEVENT
DTSTART;TZID=UTC:20260408T190000
DTEND;TZID=UTC:20260408T200000
DTSTAMP:20260424T081530
CREATED:20260320T150617Z
LAST-MODIFIED:20260320T150622Z
UID:10000100-1775674800-1775678400@operationdeltadog.org
SUMMARY:OpDD VETERANS: Dog Talk Office Hour
DESCRIPTION:Join us for our monthly Dog Talk Office Hour on google meet! We will focus on the topic “What is stimulus control?”. Kerry our training director recommended the article “Canine Stimulus Control Through Positive Dog Training”. Join the meeting by clicking the link below: https://meet.google.com/kix-zbhu-zrw?authuser=0
URL:https://operationdeltadog.org/event/opdd-veterans-dog-talk-office-hour-2/
LOCATION:Massachusetts
CATEGORIES:Veterans
END:VEVENT
END:VCALENDAR