BEGIN:VCALENDAR
VERSION:2.0
PRODID:-//Delta Dog - ECPv6.15.18//NONSGML v1.0//EN
CALSCALE:GREGORIAN
METHOD:PUBLISH
X-WR-CALNAME:Delta Dog
X-ORIGINAL-URL:https://operationdeltadog.org
X-WR-CALDESC:Events for Delta Dog
REFRESH-INTERVAL;VALUE=DURATION:PT1H
X-Robots-Tag:noindex
X-PUBLISHED-TTL:PT1H
BEGIN:VTIMEZONE
TZID:UTC
BEGIN:STANDARD
TZOFFSETFROM:+0000
TZOFFSETTO:+0000
TZNAME:UTC
DTSTART:20190101T000000
END:STANDARD
END:VTIMEZONE
BEGIN:VTIMEZONE
TZID:America/Creston
BEGIN:STANDARD
TZOFFSETFROM:-0700
TZOFFSETTO:-0700
TZNAME:MST
DTSTART:20230101T000000
END:STANDARD
END:VTIMEZONE
BEGIN:VTIMEZONE
TZID:America/New_York
BEGIN:DAYLIGHT
TZOFFSETFROM:-0500
TZOFFSETTO:-0400
TZNAME:EDT
DTSTART:20190310T070000
END:DAYLIGHT
BEGIN:STANDARD
TZOFFSETFROM:-0400
TZOFFSETTO:-0500
TZNAME:EST
DTSTART:20191103T060000
END:STANDARD
BEGIN:DAYLIGHT
TZOFFSETFROM:-0500
TZOFFSETTO:-0400
TZNAME:EDT
DTSTART:20200308T070000
END:DAYLIGHT
BEGIN:STANDARD
TZOFFSETFROM:-0400
TZOFFSETTO:-0500
TZNAME:EST
DTSTART:20201101T060000
END:STANDARD
BEGIN:DAYLIGHT
TZOFFSETFROM:-0500
TZOFFSETTO:-0400
TZNAME:EDT
DTSTART:20210314T070000
END:DAYLIGHT
BEGIN:STANDARD
TZOFFSETFROM:-0400
TZOFFSETTO:-0500
TZNAME:EST
DTSTART:20211107T060000
END:STANDARD
END:VTIMEZONE
BEGIN:VEVENT
DTSTART;VALUE=DATE:20250816
DTEND;VALUE=DATE:20250817
DTSTAMP:20260421T084045
CREATED:20250324T144619Z
LAST-MODIFIED:20250324T144619Z
UID:10000061-1755302400-1755388799@operationdeltadog.org
SUMMARY:Will's Ride 2025
DESCRIPTION:
URL:https://operationdeltadog.org/event/wills-ride-2025/
LOCATION:Register here:\, 100 Technology Drive\, Hooksett\, NH
CATEGORIES:Attending Events
ATTACH;FMTTYPE=image/jpeg:https://operationdeltadog.org/wp-content/uploads/485583079_969856405232872_5223440609964258383_n.jpg
END:VEVENT
BEGIN:VEVENT
DTSTART;TZID=UTC:20250802T100000
DTEND;TZID=UTC:20250802T100000
DTSTAMP:20260421T084045
CREATED:20250731T174341Z
LAST-MODIFIED:20250731T174901Z
UID:10000067-1754128800-1754128800@operationdeltadog.org
SUMMARY:Warrior Brotherhood MC Poker Run
DESCRIPTION:MC Brotherhood Ride Burlington MA 8.2.25.jpgStart/End: Burlington AL 162 Winn St\, Burlington\, MA 01803  POST 273\nRegistration Time: 10am-12pm   Ends: 3pm\nOpen Registration? Yes. \nCost: RIDERS $20  PASSENGERS  $10\nDetails: Need OPDD staff member for a check presentation. Bryan grew up and went to high school with Trisha and has attended OPDD events.\n\nOPEN TO ALL MOTORCYCLE RIDERS! \n🎶 Live music by The Kinship \n🍔 Great Food \n🎟️ Raffle Prizes & 50/50 Drawing \n🃏 Poker Run Format: Collect your cards at each stop – best hand wins a prize! \n💥 All proceeds go to helping local veterans in need. \n👉 Start and finish at the American Legion\, Burlington \n🕘 Registration from 10 a.m to noon.
URL:https://operationdeltadog.org/event/warrior-brotherhood-mc-poker-run/
LOCATION:Burlington American Legion Post 273\, 162 Winn Street\, Burlington\, MA\, 01803\, United States
END:VEVENT
BEGIN:VEVENT
DTSTART;TZID=UTC:20250727T090000
DTEND;TZID=UTC:20250727T140000
DTSTAMP:20260421T084045
CREATED:20250618T152800Z
LAST-MODIFIED:20250618T153531Z
UID:10000064-1753606800-1753624800@operationdeltadog.org
SUMMARY:1st Veterans Equine Activity Day
DESCRIPTION:A full day of learning about horses\, interacting with them\, breathing in their essence\, and to top it off…. Equestrian Vaulting! Experiencing the Magic of Horses!
URL:https://operationdeltadog.org/event/1st-veterans-equine-activity-day/
LOCATION:Renaissance Farm\, Wilton\, NH\, United States
CATEGORIES:Attending Events
ATTACH;FMTTYPE=image/jpeg:https://operationdeltadog.org/wp-content/uploads/490561634_1067836205369864_7343812672352102939_n.jpg
END:VEVENT
BEGIN:VEVENT
DTSTART;TZID=UTC:20250621T090000
DTEND;TZID=UTC:20250621T170000
DTSTAMP:20260421T084045
CREATED:20250618T151948Z
LAST-MODIFIED:20250618T151948Z
UID:10000063-1750496400-1750525200@operationdeltadog.org
SUMMARY:Operation Mercury V Hike
DESCRIPTION:
URL:https://operationdeltadog.org/event/operation-mercury-v-hike/
LOCATION:300 Blondin Road\, 300 Blondin Road\, Manchester\, NH\, 03109\, United States
CATEGORIES:Attending Events
ATTACH;FMTTYPE=image/avif:https://operationdeltadog.org/wp-content/uploads/7574c9_72fcb292898f4a3fa7fa534235b6f8eamv2.avif
END:VEVENT
BEGIN:VEVENT
DTSTART;TZID=UTC:20250530T080000
DTEND;TZID=UTC:20250530T170000
DTSTAMP:20260421T084045
CREATED:20250318T200119Z
LAST-MODIFIED:20250318T200120Z
UID:10000059-1748592000-1748624400@operationdeltadog.org
SUMMARY:Rifles to Rods 2025
DESCRIPTION:There are several events available from May 30 through to October 11 2025. Please check the website and fill out the google form to register
URL:https://operationdeltadog.org/event/rifles-to-rods-2025/
CATEGORIES:Attending Events
ATTACH;FMTTYPE=image/avif:https://operationdeltadog.org/wp-content/uploads/bb4d67_28fddc48af104f00bd9f397e494d9931mv2_d_5760_3840_s_4_2.avif
END:VEVENT
BEGIN:VEVENT
DTSTART;TZID=UTC:20250518T120000
DTEND;TZID=UTC:20250518T140000
DTSTAMP:20260421T084045
CREATED:20250430T200808Z
LAST-MODIFIED:20250430T200904Z
UID:10000062-1747569600-1747576800@operationdeltadog.org
SUMMARY:Military Appreciation Day
DESCRIPTION:
URL:https://operationdeltadog.org/event/military-appreciation-day/
LOCATION:Oak & Iron Brewery\, 18 Red Spring Road\, Andover\, MA\, 01810
CATEGORIES:Attending Events
ATTACH;FMTTYPE=image/jpeg:https://operationdeltadog.org/wp-content/uploads/493262309_1113838304116859_8776813111175303094_n.jpg
END:VEVENT
BEGIN:VEVENT
DTSTART;TZID=UTC:20250517T090000
DTEND;TZID=UTC:20250517T140000
DTSTAMP:20260421T084045
CREATED:20250318T185708Z
LAST-MODIFIED:20250410T191711Z
UID:10000057-1747472400-1747490400@operationdeltadog.org
SUMMARY:Verani Cares Annual Cornhole Tournament
DESCRIPTION:Enjoy a day of friendly competition\, food\, drinks\, games\, and networking with fellow local businesses while supporting our mission!
URL:https://operationdeltadog.org/event/verani-cares-annual-cornhole-tournament/
LOCATION:Tuscan Market at Tuskan Village\, 9 Via Toscana\, Salem\, NH\, 03079
CATEGORIES:Attending Events
ATTACH;FMTTYPE=image/jpeg:https://operationdeltadog.org/wp-content/uploads/conrhole2.jpg
END:VEVENT
BEGIN:VEVENT
DTSTART;VALUE=DATE:20250517
DTEND;VALUE=DATE:20250518
DTSTAMP:20260421T084045
CREATED:20250318T194955Z
LAST-MODIFIED:20250318T194957Z
UID:10000058-1747440000-1747526399@operationdeltadog.org
SUMMARY:22 for the 22
DESCRIPTION:
URL:https://operationdeltadog.org/event/22-for-the-22/
LOCATION:Newfound Lake\, 7 School Street\, Hebron\, NH\, 03241
CATEGORIES:Attending Events
ATTACH;FMTTYPE=image/jpeg:https://operationdeltadog.org/wp-content/uploads/483551361_1053636733469985_2021221548133346863_n.jpg
END:VEVENT
BEGIN:VEVENT
DTSTART;TZID=UTC:20250405T080000
DTEND;TZID=UTC:20250405T133000
DTSTAMP:20260421T084045
CREATED:20250311T190641Z
LAST-MODIFIED:20250311T195424Z
UID:10000054-1743840000-1743859800@operationdeltadog.org
SUMMARY:New Hampshire National Guard Sexual Assault Awareness 5k & Resource Expo
DESCRIPTION:Their hope is to highlight community-based resources for survivors of sexual violence while promoting prevention and awareness. We will have several community partners present to share resources and provide education along with a food truck for brunch after the race!   \nEvent Details are as follows:\n\nDate: Saturday April 5th\nLocation: NHNG Joint Force Headquarters\, Drill Hall\, 1 Minuteman Way\, Concord\, NH\,\nRace Registration: 8:15-8:45 am\nWelcome Message: 8:45 am\nSAAPM 5k Start Time: 9:00 am\nResource Expo: 8:30-11:00 am\nLunch 11:00-1:30pm
URL:https://operationdeltadog.org/event/new-hampshire-national-guard-sexual-assault-awareness-5k-resource-expo/
LOCATION:New Hampshire National Guard\, Drill Hall\, 1 Minuteman Way\, Concord\, NH
CATEGORIES:Attending Events
END:VEVENT
BEGIN:VEVENT
DTSTART;TZID=UTC:20250329T130000
DTEND;TZID=UTC:20250329T160000
DTSTAMP:20260421T084045
CREATED:20250318T210151Z
LAST-MODIFIED:20250318T210151Z
UID:10000060-1743253200-1743264000@operationdeltadog.org
SUMMARY:Merrimack Community Meet Up
DESCRIPTION:
URL:https://operationdeltadog.org/event/merrimack-community-meet-up/
LOCATION:Oak & Iron Bewing Co.\, 18 Red Spring Road\, Andover\, MA\, 01810
CATEGORIES:Attending Events
ATTACH;FMTTYPE=image/avif:https://operationdeltadog.org/wp-content/uploads/https___cdn.evbuc_.com_images_985608063_2683831248161_1_original.avif
END:VEVENT
BEGIN:VEVENT
DTSTART;TZID=UTC:20250326T100000
DTEND;TZID=UTC:20250326T130000
DTSTAMP:20260421T084045
CREATED:20250311T200230Z
LAST-MODIFIED:20250311T201450Z
UID:10000056-1742983200-1742994000@operationdeltadog.org
SUMMARY:Veterans Round Table
DESCRIPTION:
URL:https://operationdeltadog.org/event/veterans-round-table/
LOCATION:Veterans Northeast Outreach Center\, 10 Reed Street\, Haverhill\, MA\, 01832
CATEGORIES:Attending Events
ATTACH;FMTTYPE=image/png:https://operationdeltadog.org/wp-content/uploads/March-2025-Round-table-1-1.png
ORGANIZER;CN="Veterans Northeast Outreach Center":MAILTO:info@vneoc.org
END:VEVENT
BEGIN:VEVENT
DTSTART;TZID=UTC:20250324T150000
DTEND;TZID=UTC:20250324T220000
DTSTAMP:20260421T084045
CREATED:20250311T174107Z
LAST-MODIFIED:20250311T184831Z
UID:10000053-1742828400-1742853600@operationdeltadog.org
SUMMARY:Texas Roadhouse fundraiser for OPDD
DESCRIPTION:Diners must have a flyer to show
URL:https://operationdeltadog.org/event/texas-roadhouse-fundraiser-for-opdd/
LOCATION:Texas Roadhouse\, 196 New Lancaster Road\, Leominster\, MA\, 01453
CATEGORIES:Attending Events
ATTACH;FMTTYPE=image/png:https://operationdeltadog.org/wp-content/uploads/unnamed-2.png
END:VEVENT
BEGIN:VEVENT
DTSTART;TZID=UTC:20250322T140000
DTEND;TZID=UTC:20250322T140000
DTSTAMP:20260421T084045
CREATED:20250311T173053Z
LAST-MODIFIED:20250311T173217Z
UID:10000052-1742652000-1742652000@operationdeltadog.org
SUMMARY:Marsh McLennan Agency vs Boston Bruins Alumni
DESCRIPTION:Marsh McLennan Agency charity event with Boston Bruins Alumni to support local charities for veterans\, community and diversity.
URL:https://operationdeltadog.org/event/marsh-mclennan-agency-vs-boston-bruins-alumni/
LOCATION:Warrior Ice Arena\, 90 Guest Street\, Boston\, MA\, 02135
CATEGORIES:Attending Events
ATTACH;FMTTYPE=image/png:https://operationdeltadog.org/wp-content/uploads/bsblock1_orig.png
END:VEVENT
BEGIN:VEVENT
DTSTART;TZID=UTC:20250322T120000
DTEND;TZID=UTC:20250322T160000
DTSTAMP:20260421T084045
CREATED:20250311T171705Z
LAST-MODIFIED:20250311T171943Z
UID:10000051-1742644800-1742659200@operationdeltadog.org
SUMMARY:Mind\, Body & Service Wellness Workshop
DESCRIPTION:We are excited to invite you to help share information about theMind\, Body\, Service Wellness Workshop forwomen veterans taking place onSaturday\, March 22\, 2025\, from 12:00 PM to 4:00 PM atNorth Shore Community College\, Lynn Campus.\nThisfree event will feature:\nChair massage\, Zumba\, Reiki\, and other health & wellness demonstrations\nVA health care enrollment\, VA ID cards\, and PACT Act toxic exposure screenings\nVeteran and family resources\, education & employment opportunities\nAKids Zone\, giveaways\, and more!\nSpanish translation available\nWe encourage you toattend if available andhelp spread the word to women veterans in your network. Please share the attached flyer and encourage registration at https://qrco.de/bfkYPA.\nYour support in reaching as many women veterans as possible is truly appreciated. Thank you for helping us create a space for connection\, wellness\, and empowerment!\n\nClick here for the facebook group
URL:https://operationdeltadog.org/event/mind-body-service-wellness-workshop/
LOCATION:North Shore Community College\, Lynn Campuss
CATEGORIES:Attending Events
ATTACH;FMTTYPE=image/jpeg:https://operationdeltadog.org/wp-content/uploads/unnamed-9.jpg
END:VEVENT
BEGIN:VEVENT
DTSTART;TZID=America/Creston:20240922T090000
DTEND;TZID=America/Creston:20240922T120000
DTSTAMP:20260421T084045
CREATED:20220120T192314Z
LAST-MODIFIED:20240815T180712Z
UID:10000048-1726995600-1727006400@operationdeltadog.org
SUMMARY:Run 2 Rescue 5K
DESCRIPTION:  \n\n\n\n\nSign up here:  https://runsignup.com/Race/NH/Nashua/OperationDeltaDog5KRuntoRescue \nDate: September 22nd\, 2024 \nLocation: Mine Falls\, Nashua NH \nStart Time: 9AM \nDescription:  Run a quiet 5K through the beautiful Mine Falls in Nashua to help support Operation Delta Dog!  Operation Delta Dog rescues dogs and trains them to be service dogs for veterans – all at no cost to our veterans! \nEarly Packet Pickup/Race Day Reg: 7:30AM for both packet pickup and same day registration. \nFees: \nAge 15 and under $25 Flat Rate5K $35 pre-registration (on or before September 15th) $45 on September 16th5K with One Dog – $35 (on or before September 15th) $45 on May 1Veteran or Veteran with a dog $25 flat rate \n5K with One Dog: This category will allow runners to bring their dog and registrants will receive a finish line goodie bag for their dog (in addition to the race shirt and all other things the regular 5K offers). There will also be 2 prizes for this category: Top Team (human/dog) and Best Matching Outfits (human/dog). \nTeam/Club Category: This is an easy and fun way to recruit your family and friends. Teams must consist of at least 3+ people. Prizes will be awarded for the largest & fastest team (teams must include at least 1 female for prizes) \nSwag: The first 200 registrants before August 31st will receive a commemorative Operation Delta Dog Tun to Rescue t-shirt \nTop Overall Male/Female                                                                                                                                                                                                                                                                                                      Top three overall Male/Female Veteran FinishersMedals to top three M/F finishers in each category (Under 14\, 15-19 20-29\, 30-39\, 40-49\, 50-59\, 60-69\, 70+)Largest TeamFastest Team (Cumulative time for the top 3 finishers) *(Must include at least 1 female) \nPost-Race Festivities: Light refreshments and an award ceremony. \nBeneficiary: 100% of proceeds will be allocated to Operation Delta Dog \nCan’t make the event? But would like to make a contribution? Donations can be made right here through this registration platform. \nWeather Policy: This event will be held rain or shine. \nQuestions: Email walkandwag@operationdeltadog.org or call 603.921.5253 \n\n\n\n\n\n\nPLACE:\n7 Stadium DriveNashua\, NH US 03062
URL:https://operationdeltadog.org/event/run-2-rescue-5k/
LOCATION:Mine falls Park\, Nashua\, 03060\, United States
ATTACH;FMTTYPE=image/png:https://operationdeltadog.org/wp-content/uploads/5K-Event-Header.png
ORGANIZER;CN="Operation Delta Dog":MAILTO:info@operationdeltadog.org
END:VEVENT
BEGIN:VEVENT
DTSTART;TZID=UTC:20220829T120000
DTEND;TZID=UTC:20220829T210000
DTSTAMP:20260421T084045
CREATED:20220427T155921Z
LAST-MODIFIED:20220430T165301Z
UID:10000049-1661774400-1661806800@operationdeltadog.org
SUMMARY:1st Annual Golf Tournament
DESCRIPTION:EVENT SCHEDULE\n\n\n \nRegistration – 11:30am \n\n\n \nLunch – 12:00pm \n\n\n \nShotgun Start – 1:30pm (Scrambled Format) \n\n\n \nDinner – 6:30pm \n\n\n \nAwards Ceremony & Raffle – 7:30pm
URL:https://operationdeltadog.org/event/1st-annual-golf-tournament/
LOCATION:Four Oaks Country Club\, 1 Clubhouse Lane\, Dracut\, Massachusetts\, 01826\, United States
ATTACH;FMTTYPE=image/png:https://operationdeltadog.org/wp-content/uploads/golf-1.png
END:VEVENT
BEGIN:VEVENT
DTSTART;TZID=UTC:20220428T080000
DTEND;TZID=UTC:20220428T170000
DTSTAMP:20260421T084045
CREATED:20220428T142044Z
LAST-MODIFIED:20220428T142044Z
UID:10000050-1651132800-1651165200@operationdeltadog.org
SUMMARY:Test Event
DESCRIPTION:
URL:https://operationdeltadog.org/event/test-event/
ORGANIZER;CN="Operation Delta Dog":MAILTO:info@operationdeltadog.org
END:VEVENT
BEGIN:VEVENT
DTSTART;VALUE=DATE:20211114
DTEND;VALUE=DATE:20211115
DTSTAMP:20260421T084045
CREATED:20210819T193043Z
LAST-MODIFIED:20211012T000059Z
UID:10000045-1636848000-1636934399@operationdeltadog.org
SUMMARY:Walk & Wag for Veterans
DESCRIPTION:Let’s put a spring in our step and hit the local trails for this year’s Walk and Wag! \nWalk times: 11am – 3 pm \nWe are so excited to see you all in person again this year! \nCreate your own Walk and Wag fundraiser page to share and help you raise money for our disabled veterans here in New England. \nYou can connect with the Walk and Wag community and your supporters by checking in on our Facebook page. \nSign up here:\nhttps://walkandwagforveterans.com/
URL:https://operationdeltadog.org/event/walk-wag-for-veterans/
LOCATION:Great Brook Farm State Park\, 165 North Rd\, Carlisle\, MA\, 01741\, United States
ORGANIZER;CN="Operation Delta Dog":MAILTO:info@operationdeltadog.org
END:VEVENT
BEGIN:VEVENT
DTSTART;TZID=UTC:20211113T090000
DTEND;TZID=UTC:20211113T120000
DTSTAMP:20260421T084045
CREATED:20210915T012048Z
LAST-MODIFIED:20210915T012210Z
UID:10000046-1636794000-1636804800@operationdeltadog.org
SUMMARY:Operation Run to Rescue
DESCRIPTION:flyer for OHD
URL:https://operationdeltadog.org/event/operation-run-to-rescue/
LOCATION:Mine falls Park\, Nashua\, 03060\, United States
ATTACH;FMTTYPE=image/png:https://operationdeltadog.org/wp-content/uploads/New-5K-logo.png
ORGANIZER;CN="Operation Delta Dog":MAILTO:info@operationdeltadog.org
END:VEVENT
BEGIN:VEVENT
DTSTART;TZID=UTC:20211009T140000
DTEND;TZID=UTC:20211009T233000
DTSTAMP:20260421T084045
CREATED:20210925T010108Z
LAST-MODIFIED:20210925T010108Z
UID:10000047-1633788000-1633822200@operationdeltadog.org
SUMMARY:Three Piece Suit Football Charity Event
DESCRIPTION:
URL:https://operationdeltadog.org/event/three-piece-suit-football-charity-event/
LOCATION:Rogers Park\, Brighton\, Rogers Park Ave\, Boston\, MA\, 02135\, United States
ATTACH;FMTTYPE=image/png:https://operationdeltadog.org/wp-content/uploads/TPSF-BOS-2021-4-x-6-Handout-Front-with-OpDD-foil.png
END:VEVENT
BEGIN:VEVENT
DTSTART;TZID=UTC:20201107T080000
DTEND;TZID=UTC:20201115T233000
DTSTAMP:20260421T084045
CREATED:20200921T020521Z
LAST-MODIFIED:20200921T020521Z
UID:10000043-1604736000-1605483000@operationdeltadog.org
SUMMARY:Walk and Wag for Veterans
DESCRIPTION:Lets put a spring in our step and hit the local trails for this year’s Walk and Wag! \n  \n \n  \n\nChoose a day between November 7-15th to walk your 3 miles.  \nYour team can be from anywhere in the U.S so let’s share this event and take it far and wide! \nCreate your own Walk and Wag fundraiser page to share and help you raise money for our disabled veterans here in New England. \nYou can connect with the Walk and Wag community and your supporters by checking in on our Facebook page. \nBecause there is no set location this year\, you can walk with your team or hit your local trails or neighbourhoods.  \n  \nVisit http://www.walkandwagforveterans.com for all the details and registration forms.
URL:https://operationdeltadog.org/event/walk-and-wag-for-veterans/
ORGANIZER;CN="Operation Delta Dog":MAILTO:info@operationdeltadog.org
END:VEVENT
BEGIN:VEVENT
DTSTART;TZID=UTC:20200930T130000
DTEND;TZID=UTC:20200930T140000
DTSTAMP:20260421T084045
CREATED:20200923T141812Z
LAST-MODIFIED:20200930T144749Z
UID:10000044-1601470800-1601474400@operationdeltadog.org
SUMMARY:Let's Talk Dogs!
DESCRIPTION:  \n  \nCome and join us as we watch our wonderful founder Trisha interview Kathy Callahan live on Facebook 1pm EST. They will be discussing Operation Delta Dog\, our upcoming Walk and Wag event  and of course Kathy’s book 101 Rescue Puppies . \n  \nhttps://www.facebook.com/amightyblaze
URL:https://operationdeltadog.org/event/lets-talk-dogs/
ATTACH;FMTTYPE=image/png:https://operationdeltadog.org/wp-content/uploads/AMBFrontliner_DeltaDog-FINAL.png
END:VEVENT
BEGIN:VEVENT
DTSTART;TZID=America/New_York:20200914T090000
DTEND;TZID=America/New_York:20200918T173000
DTSTAMP:20260421T084045
CREATED:20200409T181934Z
LAST-MODIFIED:20200409T203301Z
UID:10000042-1600074000-1600450200@operationdeltadog.org
SUMMARY:FROM SHELTER TO SERVICE
DESCRIPTION:Shelter-to-Service-training-flyer \nDownload Flyer \nRegister Here
URL:https://operationdeltadog.org/event/from-shelter-to-service/
LOCATION:19G Clinton Drive\, Hollis\, NH 03049\, 19G Clinton Drive\, Hollis\, New Hampshire\, 03049\, United States
ATTACH;FMTTYPE=image/png:https://operationdeltadog.org/wp-content/uploads/dd1.png
END:VEVENT
BEGIN:VEVENT
DTSTART;VALUE=DATE:20200509
DTEND;VALUE=DATE:20200510
DTSTAMP:20260421T084045
CREATED:20200130T134914Z
LAST-MODIFIED:20200409T204231Z
UID:10000037-1588982400-1589068799@operationdeltadog.org
SUMMARY:SAVING PETS FOR VETS MOTORCYCLE RIDE
DESCRIPTION:  \n  \n  \nCome along and help Ethan raise some money and enjoy a motorbike ride through the New Hampshire country side. Ethan is a Bedford High school Student who was given a project to create a fundraising event for a charity of his choice\, he kindly chose Operation Delta Dog. He is hoping to raise enough to to help support the 14 month training process  of one service dog. \n  \nThere is a $25 registration fee\, this will include a t-shirt\, food\, music\, and raffle prizes \n  \nIf you cannot take part in the Motorcycle ride but still want to help you can make a donation. Click the link below to take you to the registration and donation page \n  \nClick here for even more info and to Register
URL:https://operationdeltadog.org/event/saving-pets-for-vets-motorcycle-ride/
LOCATION:Bedford Highschool\, 47 Nashua Road\, Bedford\, NH\, 03110\, United States
ATTACH;FMTTYPE=image/png:https://operationdeltadog.org/wp-content/uploads/89a7603d-2ff0-48ad-838f-7e8d827ca018-e1580947119770.png
END:VEVENT
BEGIN:VEVENT
DTSTART;TZID=UTC:20200220T180000
DTEND;TZID=UTC:20200220T210000
DTSTAMP:20260421T084045
CREATED:20200130T215339Z
LAST-MODIFIED:20200131T162305Z
UID:10000039-1582221600-1582232400@operationdeltadog.org
SUMMARY:To Be Of Service -  Special Screening
DESCRIPTION:  \n  \nJoin us for the special screening of To Be of Service\, Josh Aronson’s documentary about veterans with PTSD and the service dogs that help them. \n  \nTickets are available through our online store. All proceeds will go to Operation Delta Dog’s service dog program. \nSENSITIVE SUBJECT MATTER – RATED TV-MA \n  \n \n 
URL:https://operationdeltadog.org/event/to-be-of-service-special-screening/
LOCATION:United States
ATTACH;FMTTYPE=image/jpeg:https://operationdeltadog.org/wp-content/uploads/River-scaled.jpg
END:VEVENT
BEGIN:VEVENT
DTSTART;VALUE=DATE:20200219
DTEND;VALUE=DATE:20200220
DTSTAMP:20260421T084045
CREATED:20200131T180928Z
LAST-MODIFIED:20200131T180928Z
UID:10000041-1582070400-1582156799@operationdeltadog.org
SUMMARY:Dough Raiser
DESCRIPTION:Come help us raise some dough!! Uno’s will donate up to 20% of all sales\, this includes dine ins\, take outs\, catering and BAR! \n  \nFollow the link to get your tickets and show them to your cashier\, or you can show them the ticket on your cell phone \nClick here to get your tickets
URL:https://operationdeltadog.org/event/dough-raiser/
LOCATION:Uno Pizzeria and Grill\, 30 Cushing Avenue\, Haverhill\, MA\, 01830\, United States
ATTACH;FMTTYPE=image/jpeg:https://operationdeltadog.org/wp-content/uploads/DeltaDogDRTix.jpg
END:VEVENT
BEGIN:VEVENT
DTSTART;TZID=UTC:20200212T160000
DTEND;TZID=UTC:20200212T200000
DTSTAMP:20260421T084045
CREATED:20200130T220842Z
LAST-MODIFIED:20200130T220842Z
UID:10000040-1581523200-1581537600@operationdeltadog.org
SUMMARY:Come Woof down a Burrito!
DESCRIPTION:  \n  \nCome along\, feed your family and help us raise some money! All you have to do is visit \n  \nChipotle \n99S River Road Unit 4 \nBedford \nNH  \n\nTell them you are there to support us and a percentage of the proceeds will go to us\, its simple! \n  \nPLEASE NOTE: not valid with online orders.
URL:https://operationdeltadog.org/event/come-woof-down-a-burrito/
LOCATION:United States
ATTACH;FMTTYPE=image/jpeg:https://operationdeltadog.org/wp-content/uploads/PicMonkey-Chipotle-scaled.jpg
END:VEVENT
BEGIN:VEVENT
DTSTART;TZID=America/New_York:20200207T160000
DTEND;TZID=America/New_York:20200207T200000
DTSTAMP:20260421T084045
CREATED:20200130T191129Z
LAST-MODIFIED:20200521T173211Z
UID:10000038-1581091200-1581105600@operationdeltadog.org
SUMMARY:Come eat and treat at Panera!
DESCRIPTION:  \n  \n  \n  \n4-8pm\n  \nCome along to Panera and show the flyer and a portion of the proceeds will be donated to Operation Delta Dog. OR you can order online for Rapid Pick Up or Delivery use the code ”PRFUND” \n  \n 
URL:https://operationdeltadog.org/event/come-eat-and-treat-at-panera/
LOCATION:United States
ATTACH;FMTTYPE=image/jpeg:https://operationdeltadog.org/wp-content/uploads/Panera-Event-scaled.jpg
END:VEVENT
BEGIN:VEVENT
DTSTART;TZID=America/New_York:20200201T190000
DTEND;TZID=America/New_York:20200201T220000
DTSTAMP:20260421T084045
CREATED:20200108T135545Z
LAST-MODIFIED:20200130T184754Z
UID:10000036-1580583600-1580594400@operationdeltadog.org
SUMMARY:Music Bingo Mash-Up with D.J. Nance
DESCRIPTION:Join the Friends of Operation Delta Dog and special guest D.J. Nance for a fun night of music bingo\, where songs replace numbers on the board and the competition is fierce! \n~ Great prizes \n~ Cash bar \n~ Dessert auction \nAll proceeds will benefit Operation Delta Dog\, a nonprofit organization with a mission to rescue shelter dogs and train them to work as service dogs for veterans who suffer from Traumatic Brain Injury (TBI) and Post Traumatic Stress Disorder (PTSD). The dogs get the homes they need\, and the veterans get the help they deserve! \nThank you to Bose\, iRobot\, Home Depot\, Costco\, Heather Lavey Sullivan\, and Anne Marie Messier for the generous prize donations!
URL:https://operationdeltadog.org/event/music-bingo-mash-up-with-d-j-nance/
LOCATION:Dracut American Legion Post 315\, 574 Broadway Road\, Dracut\, MA\, 01826\, United States
ATTACH;FMTTYPE=image/jpeg:https://operationdeltadog.org/wp-content/uploads/Blank-1920-x-2880music-bingo-1-scaled.jpg
END:VEVENT
END:VCALENDAR